BEGIN:VCALENDAR
VERSION:2.0
PRODID:-//Tower String Quartet • Sacramento Based Musicians - ECPv6.15.20//NONSGML v1.0//EN
CALSCALE:GREGORIAN
METHOD:PUBLISH
X-ORIGINAL-URL:https://www.towerquartet.com
X-WR-CALDESC:Events for Tower String Quartet • Sacramento Based Musicians
REFRESH-INTERVAL;VALUE=DURATION:PT1H
X-Robots-Tag:noindex
X-PUBLISHED-TTL:PT1H
BEGIN:VTIMEZONE
TZID:UTC
BEGIN:STANDARD
TZOFFSETFROM:+0000
TZOFFSETTO:+0000
TZNAME:UTC
DTSTART:20250101T000000
END:STANDARD
END:VTIMEZONE
BEGIN:VEVENT
DTSTART;TZID=UTC:20260409T190000
DTEND;TZID=UTC:20260409T200000
DTSTAMP:20260420T034023
CREATED:20260407T150504Z
LAST-MODIFIED:20260407T150504Z
UID:1476-1775761200-1775764800@www.towerquartet.com
SUMMARY:Candlelight: Tribute to TOOL
DESCRIPTION:⭐   Candlelight    concerts bring the magic of a live\, multi-sensory musical experience to awe-inspiring locations like never seen before in Sacramento. Get your tickets now to discover the music of TOOL at The Guild Theater under the gentle glow of candlelight.   General Info   📍 Venue: The Guild Theater  📅 Dates and times: select your dates/times directly in the ticket selector  ⏳ Duration: 60 minutes. Doors open 30 minutes before the show. No entry once it starts.  👤 Age requirement: 8 years old or older. Anyone under the age of 16 must be accompanied by an adult  ♿ Accessibility: this venue is ADA compliant  ❓ View the FAQs for this event  here   🪑 Seating is assigned on a first come first served basis in each zone  🕯️ If you would like to book a private concert or buy regular tickets for a large group (+30 people)\, click  here   🎻 Check out all the  Candlelight concerts  in Sacramento  🎁 To treat your friends and family to a Candlelight gift card\, click  here   Tentative Program    Vicarious  Stinkfist  Forty Six & 2  Schism  Sober  Disposition  The Pot  Pneuma    Performers     April 9 – String Quartet – Listeso – Sacramento  April 16  – String Quartet – Range Ensemble – Sacramento   May 9  – String Quartet – Range Ensemble – Sacramento     Seating Map      \nEvent Details\n\nVenue: The Guild Theater\nCity: Sacramento\nShowtimes: 8:30p\nPerformers: String Quartet – Listeso – Sacramento\n\nBuy Tickets  |  Get a Quote
URL:https://www.towerquartet.com/concert/candlelight-tribute-to-tool/
LOCATION:The Guild Theater\, Sacramento\, US
END:VEVENT
BEGIN:VEVENT
DTSTART;TZID=UTC:20260409T190000
DTEND;TZID=UTC:20260409T200000
DTSTAMP:20260420T034023
CREATED:20260407T150505Z
LAST-MODIFIED:20260407T150505Z
UID:1477-1775761200-1775764800@www.towerquartet.com
SUMMARY:Candlelight: Tribute to TOOL
DESCRIPTION:⭐   Candlelight    concerts bring the magic of a live\, multi-sensory musical experience to awe-inspiring locations like never seen before in Sacramento. Get your tickets now to discover the music of TOOL at The Guild Theater under the gentle glow of candlelight.   General Info   📍 Venue: The Guild Theater  📅 Dates and times: select your dates/times directly in the ticket selector  ⏳ Duration: 60 minutes. Doors open 30 minutes before the show. No entry once it starts.  👤 Age requirement: 8 years old or older. Anyone under the age of 16 must be accompanied by an adult  ♿ Accessibility: this venue is ADA compliant  ❓ View the FAQs for this event  here   🪑 Seating is assigned on a first come first served basis in each zone  🕯️ If you would like to book a private concert or buy regular tickets for a large group (+30 people)\, click  here   🎻 Check out all the  Candlelight concerts  in Sacramento  🎁 To treat your friends and family to a Candlelight gift card\, click  here   Tentative Program    Vicarious  Stinkfist  Forty Six & 2  Schism  Sober  Disposition  The Pot  Pneuma    Performers     April 9 – String Quartet – Listeso – Sacramento  April 16  – String Quartet – Range Ensemble – Sacramento   May 9  – String Quartet – Range Ensemble – Sacramento     Seating Map      \nProgram\n\nVicarious\nStinkfist\nForty Six & 2\nSchism\nSober\nDisposition\nThe Pot\nPneuma\n\nEvent Details\n\nVenue: The Guild Theater\nCity: Sacramento\nShowtimes: 8:30p\nPerformers: String Quartet – Listeso – Sacramento\nTickets: From $52.92\n\nBuy Tickets  |  Get a Quote
URL:https://www.towerquartet.com/concert/candlelight-tribute-to-tool-2/
LOCATION:The Guild Theater\, Sacramento\, US
END:VEVENT
BEGIN:VEVENT
DTSTART;TZID=UTC:20260409T190000
DTEND;TZID=UTC:20260409T200000
DTSTAMP:20260420T034023
CREATED:20260407T150517Z
LAST-MODIFIED:20260407T150517Z
UID:1473-1775761200-1775764800@www.towerquartet.com
SUMMARY:Candlelight: Tribute to José José
DESCRIPTION:⭐   Candlelight  concerts bring the magic of a live\, multi-sensory musical experience to awe-inspiring locations like never seen before in Sacramento. Get your tickets now to discover the music of José José at The Guild Theater under the gentle glow of candlelight.   \n  General Info\n📍 Venue: The Guild Theater\n📅 Dates and times: select your dates/times directly in the ticket selector\n⏳ Duration: 60 minutes. Doors open 30 minutes before the show. No entry once it starts.\n👤 Age requirement: 8 years old or older. Anyone under the age of 16 must be accompanied by an adult\n♿ Accessibility: this venue is ADA compliant\n❓ View the FAQs for this event  here\n🪑 Seating is assigned on a first come first served basis in each zone\n🕯️ If you would like to book a private concert or buy regular tickets for a large group (+30 people)\, click  here\n🎻 Check out all the  Candlelight concerts  in Sacramento\n🎁 To treat your friends and family to a Candlelight gift card\, click  here   \n  Tentative Program   \n	 Payaso\n	 Lo Que No Fue No Será\n	 Si Me Dejas Ahora\n	 Desesperado\n	 Volcán\n	 40 Y 20\n	 Amar Y Querer\n	 Lo Pasado\, Pasado\n	 Almohada\n	 Preso\n	 Amor\, Amor\n	 Lo Dudo\n	 La Nave Del Olvido\n	 Gavilán o Paloma\n	 El Triste  \n  Performers   \n	 String Quartet – Listeso – Sacramento  \n  Seating Map
URL:https://www.towerquartet.com/concert/candlelight-tribute-to-jose-jose/
LOCATION:The Guild Theater\, Sacramento\, US
END:VEVENT
BEGIN:VEVENT
DTSTART;TZID=UTC:20260409T190000
DTEND;TZID=UTC:20260409T200000
DTSTAMP:20260420T034023
CREATED:20260407T150520Z
LAST-MODIFIED:20260407T150520Z
UID:1478-1775761200-1775764800@www.towerquartet.com
SUMMARY:Candlelight: Tribute to José José
DESCRIPTION:⭐   Candlelight  concerts bring the magic of a live\, multi-sensory musical experience to awe-inspiring locations like never seen before in Sacramento. Get your tickets now to discover the music of José José at The Guild Theater under the gentle glow of candlelight.   \n  General Info\n📍 Venue: The Guild Theater\n📅 Dates and times: select your dates/times directly in the ticket selector\n⏳ Duration: 60 minutes. Doors open 30 minutes before the show. No entry once it starts.\n👤 Age requirement: 8 years old or older. Anyone under the age of 16 must be accompanied by an adult\n♿ Accessibility: this venue is ADA compliant\n❓ View the FAQs for this event  here\n🪑 Seating is assigned on a first come first served basis in each zone\n🕯️ If you would like to book a private concert or buy regular tickets for a large group (+30 people)\, click  here\n🎻 Check out all the  Candlelight concerts  in Sacramento\n🎁 To treat your friends and family to a Candlelight gift card\, click  here   \n  Tentative Program   \n	 Payaso\n	 Lo Que No Fue No Será\n	 Si Me Dejas Ahora\n	 Desesperado\n	 Volcán\n	 40 Y 20\n	 Amar Y Querer\n	 Lo Pasado\, Pasado\n	 Almohada\n	 Preso\n	 Amor\, Amor\n	 Lo Dudo\n	 La Nave Del Olvido\n	 Gavilán o Paloma\n	 El Triste  \n  Performers   \n	 String Quartet – Listeso – Sacramento  \n  Seating Map   \nProgram\n\nPayaso\nLo Que No Fue No Será\nSi Me Dejas Ahora\nDesesperado\nVolcán\n40 Y 20\nAmar Y Querer\nLo Pasado\, Pasado\nAlmohada\nPreso\nAmor\, Amor\nLo Dudo\nLa Nave Del Olvido\nGavilán o Paloma\nEl Triste\n\nEvent Details\n\nVenue: The Guild Theater\nCity: Sacramento\nShowtimes: 6:30p\nPerformers: String Quartet – Listeso – Sacramento\nTickets: From $39.96\n\nBuy Tickets  |  Get a Quote
URL:https://www.towerquartet.com/concert/candlelight-tribute-to-jose-jose-2/
LOCATION:The Guild Theater\, Sacramento\, US
END:VEVENT
END:VCALENDAR