BEGIN:VCALENDAR
VERSION:2.0
PRODID:-//Tower String Quartet • Sacramento Based Musicians - ECPv6.15.20//NONSGML v1.0//EN
CALSCALE:GREGORIAN
METHOD:PUBLISH
X-ORIGINAL-URL:https://www.towerquartet.com
X-WR-CALDESC:Events for Tower String Quartet • Sacramento Based Musicians
REFRESH-INTERVAL;VALUE=DURATION:PT1H
X-Robots-Tag:noindex
X-PUBLISHED-TTL:PT1H
BEGIN:VTIMEZONE
TZID:UTC
BEGIN:STANDARD
TZOFFSETFROM:+0000
TZOFFSETTO:+0000
TZNAME:UTC
DTSTART:20250101T000000
END:STANDARD
END:VTIMEZONE
BEGIN:VEVENT
DTSTART;TZID=UTC:20260411T190000
DTEND;TZID=UTC:20260411T200000
DTSTAMP:20260420T034059
CREATED:20260407T150430Z
LAST-MODIFIED:20260407T150430Z
UID:1480-1775934000-1775937600@www.towerquartet.com
SUMMARY:Candlelight: Queen vs. ABBA
DESCRIPTION:⭐   Candlelight    concerts bring the magic of a live\, multi-sensory musical experience to awe-inspiring locations like never seen before in Sacramento. Get your tickets now to discover the music of Queen vs. ABBA at California State Railroad Museum under the gentle glow of candlelight.   General Info   📍 Venue: California State Railroad Museum  📅 Dates and times: select your dates/times directly in the ticket selector  ⏳ Duration: 60 minutes. Doors open 45 minutes before the show. No entry once it starts.  👤 Age requirement: 8 years old or older. Anyone under the age of 16 must be accompanied by an adult  ♿ Accessibility: this venue is ADA compliant  ❓ View the FAQs for this event  here   🪑 Seating is assigned on a first come first served basis in each zone  🕯️ If you would like to book a private concert or buy regular tickets for a large group (+30 people)\, click  here   🎻 Check out all the  Candlelight concerts  in Sacramento  🎁 To treat your friends and family to a Candlelight gift card\, click  here     Tentative Program Dancing Queen – ABBA  SOS – ABBA  Money\, Money\, Money – ABBA  Bohemian Rhapsody – Queen  I Want to Break Free – Queen  Waterloo – ABBA  Super Trouper – ABBA  Mamma Mia – ABBA  Don’t Stop Me Now – Queen  We Will Rock You – Queen  We Are the Champions – Queen    Performers    April 11 – Listeso String Quartet  May 15 –  Range Ensemble   June 13 – Range Ensemble  July 18 – Listeso String Quartet  August 15 – Listeso String Quartet  September 18 – Listeso String Quartet  November 12 – Listeso String Quartet    Seating Map      \nEvent Details\n\nVenue: California State Railroad Museum\nCity: Sacramento\nShowtimes: 8:45p\, 6:30p\nPerformers: Listeso String Quartet\n\nBuy Tickets  |  Get a Quote
URL:https://www.towerquartet.com/concert/candlelight-queen-vs-abba/
LOCATION:California State Railroad Museum\, Sacramento\, US
END:VEVENT
END:VCALENDAR