BEGIN:VCALENDAR
VERSION:2.0
PRODID:-//Tower String Quartet • Sacramento Based Musicians - ECPv6.15.20//NONSGML v1.0//EN
CALSCALE:GREGORIAN
METHOD:PUBLISH
X-ORIGINAL-URL:https://www.towerquartet.com
X-WR-CALDESC:Events for Tower String Quartet • Sacramento Based Musicians
REFRESH-INTERVAL;VALUE=DURATION:PT1H
X-Robots-Tag:noindex
X-PUBLISHED-TTL:PT1H
BEGIN:VTIMEZONE
TZID:UTC
BEGIN:STANDARD
TZOFFSETFROM:+0000
TZOFFSETTO:+0000
TZNAME:UTC
DTSTART:20250101T000000
END:STANDARD
END:VTIMEZONE
BEGIN:VEVENT
DTSTART;TZID=UTC:20260417T190000
DTEND;TZID=UTC:20260417T200000
DTSTAMP:20260420T033935
CREATED:20260407T150344Z
LAST-MODIFIED:20260407T150344Z
UID:1481-1776452400-1776456000@www.towerquartet.com
SUMMARY:Candlelight: 90s Hip-Hop on Strings
DESCRIPTION:⭐   Candlelight    concerts bring the magic of a live\, multi-sensory musical experience to awe-inspiring locations like never seen before in Sacramento. Get your tickets now to discover the music of 90s Hip-Hop on Strings at The Guild Theater under the gentle glow of candlelight.   General Info   📍 Venue: The Guild Theater  📅 Dates and times: select your dates/times directly in the ticket selector  ⏳ Duration: 60 minutes. Doors open 30 minutes before the show. No entry once it starts.  👤 Age requirement: 8 years old or older. Anyone under the age of 16 must be accompanied by an adult  ♿ Accessibility: this venue is ADA compliant  ❓ View the FAQs for this event  here   🪑 Seating is assigned on a first come first served basis in each zone  🕯️ If you would like to book a private concert or buy regular tickets for a large group (+30 people)\, click  here   🎻 Check out all the  Candlelight concerts  in Sacramento  🎁 To treat your friends and family to a Candlelight gift card\, click  here   Tentative Program    Fugees and Lauryn Hill Medley (Ready or Not\, Doo-Wop\, Fu-Gee-La\, and Killing Me Softly)  Jay-Z Medley (Can I Get A…\, Big Pimpin\, Money Ain’t a Thing\, and More)  Nas Medley (It Ain’t Hard to Tell\, N.Y. State of Mind\, The World Is Yours\, and More)  Outkast Medley (Rosa Parks\, Elevators (Me & You)\, SpottieOttieDopaliscious\, and More)  Missy ‘Misdemeanor’ Elliott Medley (The Rain (Supa Dupa Fly)\, Sock It to Me\, and More)  A Tribe Called Quest Medley (Can I Kick It\, Check the Rhime\, Scenario\, and More)  Wu Tang Clan Medley (C.R.E.A.M. (Cash Rules Everything Around Me)\, Wu-Tang Clan Ain’t Nuthing Ta F’ Wit\, Protect Ya Neck\, and More)  2Pac Medley (Dear Mama\, California Love\, and more)  The Notorious B.I.G. Medley (Juicy\, Big Poppa\, Hypnotize\, and More)  Dr. Dre Medley (Still D.R.E.\, Forgot About Dre\, Nuthin’ but a ‘G’ Thang\, and More)  Gin and Juice – Snoop Dogg     Performers    String Quartet – Listeso – Sacramento   Seating Map      \nEvent Details\n\nVenue: The Guild Theater\nCity: Sacramento\nShowtimes: 8:30p\nPerformers: String Quartet + Drums – Listeso – Sacramento\n\nBuy Tickets  |  Get a Quote
URL:https://www.towerquartet.com/concert/candlelight-90s-hip-hop-on-strings/
LOCATION:The Guild Theater\, Sacramento\, US
END:VEVENT
END:VCALENDAR