BEGIN:VCALENDAR
VERSION:2.0
PRODID:-//Tower String Quartet • Sacramento Based Musicians - ECPv6.15.20//NONSGML v1.0//EN
CALSCALE:GREGORIAN
METHOD:PUBLISH
X-WR-CALNAME:Tower String Quartet • Sacramento Based Musicians
X-ORIGINAL-URL:https://www.towerquartet.com
X-WR-CALDESC:Events for Tower String Quartet • Sacramento Based Musicians
REFRESH-INTERVAL;VALUE=DURATION:PT1H
X-Robots-Tag:noindex
X-PUBLISHED-TTL:PT1H
BEGIN:VTIMEZONE
TZID:UTC
BEGIN:STANDARD
TZOFFSETFROM:+0000
TZOFFSETTO:+0000
TZNAME:UTC
DTSTART:20250101T000000
END:STANDARD
END:VTIMEZONE
BEGIN:VEVENT
DTSTART;TZID=UTC:20260418T190000
DTEND;TZID=UTC:20260418T200000
DTSTAMP:20260420T033824
CREATED:20260407T150323Z
LAST-MODIFIED:20260407T150323Z
UID:1482-1776538800-1776542400@www.towerquartet.com
SUMMARY:Candlelight: 90s Unplugged
DESCRIPTION:⭐   Candlelight  concerts bring the magic of a live\, multi-sensory musical experience to awe-inspiring locations like never seen before in Sacramento. Get your tickets now to discover the music of 90s Unplugged at The Guild Theater under the gentle glow of candlelight.   \n  General Info\n📍 Venue: The Guild Theater\n📅 Dates and times: select your dates/times directly in the ticket selector\n⏳ Duration: 60 minutes. Doors open 30 minutes before the show. No entry once it starts.\n👤 Age requirement: 8 years old or older. Anyone under the age of 16 must be accompanied by an adult\n♿ Accessibility: this venue is ADA compliant\n❓ View the FAQs for this event  here\n🪑 Seating is assigned on a first come first served basis in each zone\n🕯️ If you would like to book a private concert or buy regular tickets for a large group (+30 people)\, click  here\n🎻 Check out all the  Candlelight concerts  in Sacramento\n🎁 To treat your friends and family to a Candlelight gift card\, click  here   \n  Tentative Program   \n	 Everlong – Foo Fighters\n	 Don’t Speak – No Doubt\n	 Zombie – The Cranberries\n	 Ironic – Alanis Morrissette\n	 Wonderwall – Oasis\n	 High and Dry – Radiohead\n	 Enter Sandman – Metallica\n	 Under the Bridge – Red Hot Chili Peppers\n	 Fly Away – Lenny Kravitz\n	 Hallelujah – Jeff Buckley\n	 Tears in Heaven – Eric Clapton\n	 Smells Like Teen Spirit – Nirvana  \n Performers   \n	 String Quartet – Listeso   \n  Seating Map   \nEvent Details\n\nVenue: The Guild Theater\nCity: Sacramento\nShowtimes: 5:00p\nPerformers: String Quartet – Listeso\n\nBuy Tickets  |  Get a Quote
URL:https://www.towerquartet.com/concert/candlelight-90s-unplugged/
LOCATION:The Guild Theater\, Sacramento\, US
END:VEVENT
BEGIN:VEVENT
DTSTART;TZID=UTC:20260418T190000
DTEND;TZID=UTC:20260418T200000
DTSTAMP:20260420T033824
CREATED:20260407T150336Z
LAST-MODIFIED:20260407T150336Z
UID:1483-1776538800-1776542400@www.towerquartet.com
SUMMARY:Candlelight: 90s Unplugged
DESCRIPTION:⭐   Candlelight  concerts bring the magic of a live\, multi-sensory musical experience to awe-inspiring locations like never seen before in Sacramento. Get your tickets now to discover the music of 90s Unplugged at The Guild Theater under the gentle glow of candlelight.   \n  General Info\n📍 Venue: The Guild Theater\n📅 Dates and times: select your dates/times directly in the ticket selector\n⏳ Duration: 60 minutes. Doors open 30 minutes before the show. No entry once it starts.\n👤 Age requirement: 8 years old or older. Anyone under the age of 16 must be accompanied by an adult\n♿ Accessibility: this venue is ADA compliant\n❓ View the FAQs for this event  here\n🪑 Seating is assigned on a first come first served basis in each zone\n🕯️ If you would like to book a private concert or buy regular tickets for a large group (+30 people)\, click  here\n🎻 Check out all the  Candlelight concerts  in Sacramento\n🎁 To treat your friends and family to a Candlelight gift card\, click  here   \n  Tentative Program   \n	 Everlong – Foo Fighters\n	 Don’t Speak – No Doubt\n	 Zombie – The Cranberries\n	 Ironic – Alanis Morrissette\n	 Wonderwall – Oasis\n	 High and Dry – Radiohead\n	 Enter Sandman – Metallica\n	 Under the Bridge – Red Hot Chili Peppers\n	 Fly Away – Lenny Kravitz\n	 Hallelujah – Jeff Buckley\n	 Tears in Heaven – Eric Clapton\n	 Smells Like Teen Spirit – Nirvana  \n Performers   \n	 String Quartet – Listeso   \n  Seating Map   \nProgram\n\nEverlong – Foo Fighters\nDon’t Speak – No Doubt\nZombie – The Cranberries\nIronic – Alanis Morrissette\nWonderwall – Oasis\nHigh and Dry – Radiohead\nEnter Sandman – Metallica\nUnder the Bridge – Red Hot Chili Peppers\nFly Away – Lenny Kravitz\nHallelujah – Jeff Buckley\nTears in Heaven – Eric Clapton\nSmells Like Teen Spirit – Nirvana\n\nEvent Details\n\nVenue: The Guild Theater\nCity: Sacramento\nShowtimes: 5:00p\nPerformers: String Quartet – Listeso \nTickets: From $52.92\n\nBuy Tickets  |  Get a Quote
URL:https://www.towerquartet.com/concert/candlelight-90s-unplugged-2/
LOCATION:The Guild Theater\, Sacramento\, US
END:VEVENT
END:VCALENDAR