BEGIN:VCALENDAR
VERSION:2.0
PRODID:-//Tower String Quartet • Sacramento Based Musicians - ECPv6.15.20//NONSGML v1.0//EN
CALSCALE:GREGORIAN
METHOD:PUBLISH
X-WR-CALNAME:Tower String Quartet • Sacramento Based Musicians
X-ORIGINAL-URL:https://www.towerquartet.com
X-WR-CALDESC:Events for Tower String Quartet • Sacramento Based Musicians
REFRESH-INTERVAL;VALUE=DURATION:PT1H
X-Robots-Tag:noindex
X-PUBLISHED-TTL:PT1H
BEGIN:VTIMEZONE
TZID:UTC
BEGIN:STANDARD
TZOFFSETFROM:+0000
TZOFFSETTO:+0000
TZNAME:UTC
DTSTART:20250101T000000
END:STANDARD
END:VTIMEZONE
BEGIN:VEVENT
DTSTART;TZID=UTC:20260517T190000
DTEND;TZID=UTC:20260517T200000
DTSTAMP:20260420T063922
CREATED:20260407T150043Z
LAST-MODIFIED:20260407T150043Z
UID:1516-1779044400-1779048000@www.towerquartet.com
SUMMARY:Candlelight: Coldplay X Imagine Dragons
DESCRIPTION:⭐   Candlelight    concerts bring the magic of a live\, multi-sensory musical experience to awe-inspiring locations like never seen before in Sacramento. Get your tickets now to discover the music of Coldplay X Imagine Dragons at the California State Railroad Museum under the gentle glow of candlelight.    General Info   📍 Venue: California State Railroad Museum  📅 Dates and times: select your dates/times directly in the ticket selector  ⏳ Duration: 60 minutes. Doors open 45 minutes before the show. No entry once it starts.  👤 Age requirement: 8 years old or older. Anyone under the age of 16 must be accompanied by an adult  ♿ Accessibility: this venue is ADA compliant  ❓ View the FAQs for this event  here   🪑 Seating is assigned on a first come first served basis in each zone  🕯️ If you would like to book a private concert or buy regular tickets for a large group (+30 people)\, click  here   🎻 Check out all the  Candlelight concerts  in Sacramento  🎁 To treat your friends and family to a Candlelight gift card\, click  here    Tentative Program     Coldplay – Clocks   Imagine Dragons – Radioactive  Coldplay – Adventure of a Lifetime  Coldplay – Fix You  Imagine Dragons – Eyes Closed  Imagine Dragons – Nice to Meet You  Coldplay – The Scientist  Coldplay – feelslikeimfallinginlove  Imagine Dragons – Follow You  Imagine Dragons – Bad Liar  Imagine Dragons – Believer  Coldplay – Sky Full of Stars  Coldplay – Viva la Vida    Performers    April 10 – Listeso String Quartet  May 17 – Listeso String Quartet  May 30 – Range Ensemble  July 19 – Listeso String Quartet  September 10 – Range Ensemble  November 14 – Listeso String Quartet    Seating Map    \nEvent Details\n\nVenue: California State Railroad Museum\nCity: Sacramento\nShowtimes: 6:30p\, 8:45p\nPerformers: Listeso String Quartet\n\nBuy Tickets  |  Get a Quote
URL:https://www.towerquartet.com/concert/candlelight-coldplay-x-imagine-dragons-2/
LOCATION:California State Railroad Museum\, Sacramento\, US
END:VEVENT
BEGIN:VEVENT
DTSTART;TZID=UTC:20260517T190000
DTEND;TZID=UTC:20260517T200000
DTSTAMP:20260420T063922
CREATED:20260407T150052Z
LAST-MODIFIED:20260407T150052Z
UID:1513-1779044400-1779048000@www.towerquartet.com
SUMMARY:Candlelight: Best of Bridgerton on Strings
DESCRIPTION:Experience an enchanting evening as you step into the captivating world of Candlelight: Best of Bridgerton on Strings\, taking place at the historic California State Railroad Museum in the heart of Sacramento. Immerse yourself in the romantic and intriguing melodies from the critically acclaimed series\, Bridgerton\, brought to life by the enchanting harmonies of a talented string quartet. The venue will be bathed in the soft glow of over 100 candles\, creating an intimate and magical atmosphere that will transport you back to the Regency era. As the strings sway with the rhythm of love\, secrets\, and intrigue\, you’ll find yourself swept away by the live music\, making this a truly unforgettable experience not to be missed. Don’t let this unique opportunity pass you by – secure your tickets today for an evening filled with the beauty of live music Sacramento! \nEvent Details\n\nVenue: California State Railroad Museum\nCity: Sacramento\nShowtimes: 6:30p\nPerformers: String Quartet – Listeso – Sacramento\n\nBuy Tickets  |  Get a Quote
URL:https://www.towerquartet.com/concert/candlelight-best-of-bridgerton-on-strings-3/
LOCATION:California State Railroad Museum\, Sacramento\, US
END:VEVENT
END:VCALENDAR